BEGIN:VCALENDAR
VERSION:2.0
PRODID:-//CAGTC - ECPv6.15.20//NONSGML v1.0//EN
CALSCALE:GREGORIAN
METHOD:PUBLISH
X-WR-CALNAME:CAGTC
X-ORIGINAL-URL:https://tradecorridors.org
X-WR-CALDESC:Events for CAGTC
REFRESH-INTERVAL;VALUE=DURATION:PT1H
X-Robots-Tag:noindex
X-PUBLISHED-TTL:PT1H
BEGIN:VTIMEZONE
TZID:America/New_York
BEGIN:DAYLIGHT
TZOFFSETFROM:-0500
TZOFFSETTO:-0400
TZNAME:EDT
DTSTART:20170312T070000
END:DAYLIGHT
BEGIN:STANDARD
TZOFFSETFROM:-0400
TZOFFSETTO:-0500
TZNAME:EST
DTSTART:20171105T060000
END:STANDARD
BEGIN:DAYLIGHT
TZOFFSETFROM:-0500
TZOFFSETTO:-0400
TZNAME:EDT
DTSTART:20180311T070000
END:DAYLIGHT
BEGIN:STANDARD
TZOFFSETFROM:-0400
TZOFFSETTO:-0500
TZNAME:EST
DTSTART:20181104T060000
END:STANDARD
BEGIN:DAYLIGHT
TZOFFSETFROM:-0500
TZOFFSETTO:-0400
TZNAME:EDT
DTSTART:20190310T070000
END:DAYLIGHT
BEGIN:STANDARD
TZOFFSETFROM:-0400
TZOFFSETTO:-0500
TZNAME:EST
DTSTART:20191103T060000
END:STANDARD
BEGIN:DAYLIGHT
TZOFFSETFROM:-0500
TZOFFSETTO:-0400
TZNAME:EDT
DTSTART:20200308T070000
END:DAYLIGHT
BEGIN:STANDARD
TZOFFSETFROM:-0400
TZOFFSETTO:-0500
TZNAME:EST
DTSTART:20201101T060000
END:STANDARD
BEGIN:DAYLIGHT
TZOFFSETFROM:-0500
TZOFFSETTO:-0400
TZNAME:EDT
DTSTART:20210314T070000
END:DAYLIGHT
BEGIN:STANDARD
TZOFFSETFROM:-0400
TZOFFSETTO:-0500
TZNAME:EST
DTSTART:20211107T060000
END:STANDARD
BEGIN:DAYLIGHT
TZOFFSETFROM:-0500
TZOFFSETTO:-0400
TZNAME:EDT
DTSTART:20220313T070000
END:DAYLIGHT
BEGIN:STANDARD
TZOFFSETFROM:-0400
TZOFFSETTO:-0500
TZNAME:EST
DTSTART:20221106T060000
END:STANDARD
BEGIN:DAYLIGHT
TZOFFSETFROM:-0500
TZOFFSETTO:-0400
TZNAME:EDT
DTSTART:20230312T070000
END:DAYLIGHT
BEGIN:STANDARD
TZOFFSETFROM:-0400
TZOFFSETTO:-0500
TZNAME:EST
DTSTART:20231105T060000
END:STANDARD
BEGIN:DAYLIGHT
TZOFFSETFROM:-0500
TZOFFSETTO:-0400
TZNAME:EDT
DTSTART:20240310T070000
END:DAYLIGHT
BEGIN:STANDARD
TZOFFSETFROM:-0400
TZOFFSETTO:-0500
TZNAME:EST
DTSTART:20241103T060000
END:STANDARD
BEGIN:DAYLIGHT
TZOFFSETFROM:-0500
TZOFFSETTO:-0400
TZNAME:EDT
DTSTART:20250309T070000
END:DAYLIGHT
BEGIN:STANDARD
TZOFFSETFROM:-0400
TZOFFSETTO:-0500
TZNAME:EST
DTSTART:20251102T060000
END:STANDARD
BEGIN:DAYLIGHT
TZOFFSETFROM:-0500
TZOFFSETTO:-0400
TZNAME:EDT
DTSTART:20260308T070000
END:DAYLIGHT
BEGIN:STANDARD
TZOFFSETFROM:-0400
TZOFFSETTO:-0500
TZNAME:EST
DTSTART:20261101T060000
END:STANDARD
END:VTIMEZONE
BEGIN:VEVENT
DTSTART;VALUE=DATE:20250514
DTEND;VALUE=DATE:20250516
DTSTAMP:20260421T165138
CREATED:20250211T142732Z
LAST-MODIFIED:20250211T142732Z
UID:8390-1747180800-1747353599@tradecorridors.org
SUMMARY:CAGTC 2025 Annual Meeting
DESCRIPTION:Join the nation’s foremost freight policy leaders for two days dedicated to timely discussions\, networking\, and freight infrastructure advocacy. \nMore information on the 2025 CAGTC Annual Meeting to come! \nLocation \nOur meeting will take place at the AC Hotel Washington DC Capitol Hill Navy Yard (a Marriott property)\, just blocks from USDOT and Capitol Hill. \nHotel Information \nCAGTC has secured a block of rooms at the AC Hotel Washington DC Capitol Hill Navy Yard (a Marriott property) on the evenings of May 13 and May 14. The guaranteed rate is $329 per night for bookings made under the block through April 17\, 2025. Please note that our hotel block sold out quickly last year; we encourage you to make your arrangements as soon as possible.  \nReservations can be made online here or by calling 202-984-2454. If you are reserving by phone\, please identify yourself as a member of the Coalition for America’s Gateways & Trade Corridors Annual Event group.
URL:https://tradecorridors.org/event/cagtc-2025-annual-meeting/
LOCATION:AC Hotel – Capitol Hill/Navy Yard\, 867 New Jersey Ave SE\, Washington\, DC\, United States
END:VEVENT
BEGIN:VEVENT
DTSTART;TZID=America/New_York:20240515T170000
DTEND;TZID=America/New_York:20240515T190000
DTSTAMP:20260421T165138
CREATED:20240126T204726Z
LAST-MODIFIED:20240126T205210Z
UID:7946-1715792400-1715799600@tradecorridors.org
SUMMARY:CAGTC Goods Movement Reception
DESCRIPTION:Our Goods Movement Reception will take place on the evening of Wednesday\, May 15 at the AC Hotel Washington DC Capitol Hill Navy Yard (867 New Jersey Ave. SE\, Washington\, DC 20003). \nCAGTC’s reception is free and open to the public! \nThis is a “widely attended” event\, pursuant to House & Senate Ethics Rules. \nRSVP here.
URL:https://tradecorridors.org/event/cagtc-goods-movement-reception/
LOCATION:AC Hotel – Capitol Hill/Navy Yard\, 867 New Jersey Ave SE\, Washington\, DC\, United States
END:VEVENT
BEGIN:VEVENT
DTSTART;VALUE=DATE:20240515
DTEND;VALUE=DATE:20240517
DTSTAMP:20260421T165138
CREATED:20240117T164213Z
LAST-MODIFIED:20240117T171548Z
UID:7900-1715731200-1715903999@tradecorridors.org
SUMMARY:CAGTC Annual Meeting 2024
DESCRIPTION:Join the nation’s foremost freight policy leaders for two days dedicated to timely discussions\, networking\, and freight infrastructure advocacy. \nMore information on the 2024 CAGTC Annual Meeting to come! \nLocation \nOur meeting will take place at the AC Hotel Washington DC Capitol Hill Navy Yard (a Marriott property)\, just blocks from USDOT and Capitol Hill. \nHotel Information \nCAGTC has secured a block of rooms at the AC Hotel Washington DC Capitol Hill Navy Yard on the evenings of May 14 and 15. The guaranteed rate is $309 per night for bookings made under the block by April 19\, 2024. Reservations can be made online here or by calling 202-984-2454. If you are reserving by phone\, please identify yourself as a member of the Coalition for America’s Gateways & Trade Corridors Annual Event group. \nPlease note that the hotel block is expected to fill up quickly. We encourage CAGTC members to make their reservations as soon as possible.
URL:https://tradecorridors.org/event/cagtc-annual-meeting-2024/
LOCATION:AC Hotel – Capitol Hill/Navy Yard\, 867 New Jersey Ave SE\, Washington\, DC\, United States
END:VEVENT
BEGIN:VEVENT
DTSTART;TZID=America/New_York:20230713T140000
DTEND;TZID=America/New_York:20230713T151500
DTSTAMP:20260421T165138
CREATED:20230627T202657Z
LAST-MODIFIED:20230712T131915Z
UID:7297-1689256800-1689261300@tradecorridors.org
SUMMARY:Follow the Funding: Navigating the Competitive Grant Process
DESCRIPTION:The Bipartisan Infrastructure Law created unprecedented competitive grant opportunities for freight infrastructure projects. CAGTC Members have a long history of competing for competitive awards to fund large\, complex projects. This spring\, CAGTC polled its membership to understand their experiences applying for and receiving grants under the BIL. While we shared an overview of results at the CAGTC Annual Meeting\, this follow up session will explore in more detail the insights our members shared that helped them be successful in the process. Hear from industry experts with years of experience competing for federal dollars and learn how they are navigating these opportunities. \nSpeakers \n\nModerator: Shant Boyajian\, Partner\, Nossaman LLP\nPierce Homer\, Transportation Director\, Moffatt & Nichol\nLibby Ogard\, President\, Grant Advantage LLC\nJason Smeak\, AVP\, Global Supply Chain & Logistics\, Global Goods Movement\, AECOM\n\nRegister here. \n\nMembers: Free with promo code (included in event notice emails from CAGTC staff)\nNon-members: $35\n\n 
URL:https://tradecorridors.org/event/follow-the-funding-navigating-the-competitive-grant-process/
LOCATION:Microsoft Teams
END:VEVENT
BEGIN:VEVENT
DTSTART;VALUE=DATE:20230517
DTEND;VALUE=DATE:20230519
DTSTAMP:20260421T165138
CREATED:20230112T194822Z
LAST-MODIFIED:20230306T184836Z
UID:6918-1684281600-1684454399@tradecorridors.org
SUMMARY:2023 CAGTC Annual Meeting
DESCRIPTION:Join the nation’s foremost freight policy leaders for two days dedicated to timely discussions\, networking\, and freight infrastructure advocacy. \nMore information on the 2023 CAGTC Annual Meeting to come! \nLocation \nOur meeting will take place at the AC Hotel Washington DC Capitol Hill Navy Yard (a Marriott property)\, just blocks from USDOT and Capitol Hill. \nCAGTC has secured a block of rooms on the evenings of May 16 and May 17. The guaranteed rate is $299 per night for bookings made under the block through April 21. Reservations can be made online here or by calling 202-984-2454. If you are reserving by phone\, please identify yourself as a member of the Coalition for America’s Gateways & Trade Corridors Annual Event group.
URL:https://tradecorridors.org/event/2023-cagtc-annual-meeting/
LOCATION:AC Hotel – Capitol Hill/Navy Yard\, 867 New Jersey Ave SE\, Washington\, DC\, United States
END:VEVENT
BEGIN:VEVENT
DTSTART;VALUE=DATE:20220511
DTEND;VALUE=DATE:20220513
DTSTAMP:20260421T165138
CREATED:20220401T133401Z
LAST-MODIFIED:20220401T133732Z
UID:6179-1652227200-1652399999@tradecorridors.org
SUMMARY:CAGTC 2022 Annual Meeting
DESCRIPTION:  \n 
URL:https://tradecorridors.org/event/cagtc-2022-annual-meeting/
LOCATION:AC Hotel – Capitol Hill/Navy Yard\, 867 New Jersey Ave SE\, Washington\, DC\, United States
END:VEVENT
BEGIN:VEVENT
DTSTART;VALUE=DATE:20210106
DTEND;VALUE=DATE:20210110
DTSTAMP:20260421T165138
CREATED:20200218T163537Z
LAST-MODIFIED:20200218T163537Z
UID:4126-1609891200-1610236799@tradecorridors.org
SUMMARY:2021 Annual NRC Conference & Exhibition
DESCRIPTION:
URL:https://tradecorridors.org/event/2021-annual-nrc-conference-exhibition/
LOCATION:Diplomat Beach Resort\, Hollywood\, FL\, United States
END:VEVENT
BEGIN:VEVENT
DTSTART;TZID=America/New_York:20201201T090000
DTEND;TZID=America/New_York:20201201T120000
DTSTAMP:20260421T165138
CREATED:20201001T132453Z
LAST-MODIFIED:20201001T132453Z
UID:5077-1606813200-1606824000@tradecorridors.org
SUMMARY:Southern California Economic Summit
DESCRIPTION:
URL:https://tradecorridors.org/event/southern-california-economic-summit/
LOCATION:DC
END:VEVENT
BEGIN:VEVENT
DTSTART;VALUE=DATE:20200913
DTEND;VALUE=DATE:20200916
DTSTAMP:20260421T165138
CREATED:20200218T162923Z
LAST-MODIFIED:20200218T162923Z
UID:4118-1599955200-1600214399@tradecorridors.org
SUMMARY:IANA Intermodal EXPO 2020
DESCRIPTION:
URL:https://tradecorridors.org/event/iana-intermodal-expo-2020/
LOCATION:Long Beach\, California
END:VEVENT
BEGIN:VEVENT
DTSTART;VALUE=DATE:20200505
DTEND;VALUE=DATE:20200508
DTSTAMP:20260421T165138
CREATED:20200218T165238Z
LAST-MODIFIED:20200408T132155Z
UID:4144-1588636800-1588895999@tradecorridors.org
SUMMARY:The Intermodal Operations\, Safety & Maintenance Business Meeting — Cancelled
DESCRIPTION:The Intermodal Operations\, Safety & Maintenance Business Meeting is a dynamic educational event\, convening intermodal professionals to participate in interactive programs and to exchange ideas though roundtable discussions and committee meetings. Networking receptions\, a Golf Outing and the Supplier Showcase allow you to build more connections and make potential new partnerships to grow your business.
URL:https://tradecorridors.org/event/the-intermodal-operations-safety-maintenance-business-meeting/
LOCATION:Hilton Chicago/Oak Brook Hills Resort and Conference Center\, Oak Brook\, IL\, United States
END:VEVENT
BEGIN:VEVENT
DTSTART;VALUE=DATE:20200505
DTEND;VALUE=DATE:20200508
DTSTAMP:20260421T165138
CREATED:20200218T163747Z
LAST-MODIFIED:20200408T132040Z
UID:4129-1588636800-1588895999@tradecorridors.org
SUMMARY:2020 NASCO Continental Reunion – POSTPONED
DESCRIPTION:
URL:https://tradecorridors.org/event/2020-nasco-continental-reunion/
LOCATION:Centro de Convenciones de San Luis Potosí\, San Luis Potosí\, SLP\, Mexico
END:VEVENT
BEGIN:VEVENT
DTSTART;VALUE=DATE:20200502
DTEND;VALUE=DATE:20200506
DTSTAMP:20260421T165138
CREATED:20200218T163221Z
LAST-MODIFIED:20200408T132000Z
UID:4122-1588377600-1588723199@tradecorridors.org
SUMMARY:ASLRRA 2020 Annual Convention – POSTPONED
DESCRIPTION:
URL:https://tradecorridors.org/event/aslrra-2020-annual-convention/
LOCATION:Gaylord Texan\, 1501 Gaylord Trail\, Grapevine\, TX\, 76051\, United States
END:VEVENT
BEGIN:VEVENT
DTSTART;VALUE=DATE:20200317
DTEND;VALUE=DATE:20200320
DTSTAMP:20260421T165138
CREATED:20200218T165032Z
LAST-MODIFIED:20200218T165032Z
UID:4141-1584403200-1584662399@tradecorridors.org
SUMMARY:AAPA Spring Conference
DESCRIPTION:
URL:https://tradecorridors.org/event/aapa-spring-conference/
LOCATION:Grand Hyatt Washington\, 1000 H Street NW\, Washington\, DC\, 20001\, United States
END:VEVENT
BEGIN:VEVENT
DTSTART;VALUE=DATE:20200304
DTEND;VALUE=DATE:20200305
DTSTAMP:20260421T165138
CREATED:20200218T164434Z
LAST-MODIFIED:20200218T164434Z
UID:4138-1583280000-1583366399@tradecorridors.org
SUMMARY:Railroad Day on Capitol Hill 2020
DESCRIPTION:
URL:https://tradecorridors.org/event/railroad-day-on-capitol-hill-2020/
LOCATION:Hyatt Regency Capitol Hill\, 400 New Jersey Ave\, NW\, Washington\, DC\, 20001\, United States
END:VEVENT
BEGIN:VEVENT
DTSTART;VALUE=DATE:20200302
DTEND;VALUE=DATE:20200305
DTSTAMP:20260421T165138
CREATED:20200218T164237Z
LAST-MODIFIED:20200218T164237Z
UID:4135-1583107200-1583366399@tradecorridors.org
SUMMARY:Public-Private Partnership Conference & Expo 2020
DESCRIPTION:
URL:https://tradecorridors.org/event/public-private-partnership-conference-expo-2020/
LOCATION:Sheraton Hotel\, Dallas\, TX\, United States
END:VEVENT
BEGIN:VEVENT
DTSTART;VALUE=DATE:20200225
DTEND;VALUE=DATE:20200229
DTSTAMP:20260421T165138
CREATED:20200218T164031Z
LAST-MODIFIED:20200218T164031Z
UID:4132-1582588800-1582934399@tradecorridors.org
SUMMARY:AASHTO 2020 Washington Briefing
DESCRIPTION:
URL:https://tradecorridors.org/event/aashto-2020-washington-briefing/
LOCATION:The Washington Court Hotel\, 525 New Jersey Avenue\, NW\, Washington\, DC\, 20001\, United States
END:VEVENT
BEGIN:VEVENT
DTSTART;VALUE=DATE:20200206
DTEND;VALUE=DATE:20200208
DTSTAMP:20260421T165138
CREATED:20200218T162353Z
LAST-MODIFIED:20200218T162353Z
UID:4114-1580947200-1581119999@tradecorridors.org
SUMMARY:2020 FTBA Construction Conference
DESCRIPTION:
URL:https://tradecorridors.org/event/2020-ftba-construction-conference/
LOCATION:Hyatt Regency Orlando
END:VEVENT
BEGIN:VEVENT
DTSTART;VALUE=DATE:20190514
DTEND;VALUE=DATE:20190516
DTSTAMP:20260421T165138
CREATED:20190107T181103Z
LAST-MODIFIED:20190107T181103Z
UID:2935-1557792000-1557964799@tradecorridors.org
SUMMARY:CAGTC 2019 Annual Meeting
DESCRIPTION:The 2019 CAGTC Annual Meeting will take place May 14-15 in Washington\, DC. Stay tuned for more information!\nFor information on booking a hotel room in the CAGTC room block\, please contact Cecile Entleitner at centleitner@blakey-agnew.com.
URL:https://tradecorridors.org/event/cagtc-2019-annual-meeting/
LOCATION:Washington\, DC
END:VEVENT
BEGIN:VEVENT
DTSTART;VALUE=DATE:20190430
DTEND;VALUE=DATE:20190503
DTSTAMP:20260421T165138
CREATED:20181012T211432Z
LAST-MODIFIED:20181012T211432Z
UID:2659-1556582400-1556841599@tradecorridors.org
SUMMARY:IANA Operations & Maintenance Business Meeting
DESCRIPTION:The Intermodal Operations and Maintenance Business Meeting is held annually in early May. It offers attendees an interactive program that features roundtable discussions\, committee meetings and plenty of networking opportunities.The 2019 Business Meeting will be held April 30 – May 2 in Lombard\, IL.
URL:https://tradecorridors.org/event/iana-operations-maintenance-business-meeting/
LOCATION:DC
END:VEVENT
BEGIN:VEVENT
DTSTART;VALUE=DATE:20190423
DTEND;VALUE=DATE:20190424
DTSTAMP:20260421T165138
CREATED:20190306T143415Z
LAST-MODIFIED:20190306T143415Z
UID:3120-1555977600-1556063999@tradecorridors.org
SUMMARY:AASHTO Council on Water Transportation Meeting
DESCRIPTION:The Council on Water Transportation addresses all policy\, regulatory\, safety and enforcement issues impacting the nation’s Coastal\, Inland and Great Lakes waterways ability to move goods efficiently on the national freight transportation network. The Council on Water Transportation members include any state transportation department that elects to serve on the committee. States may also designate an alternate state-level agency to serve on their behalf. \nRaising Cane’s River Center\n275 South River Road\nBaton Rouge\, LA
URL:https://tradecorridors.org/event/aashto-council-on-water-transportation-meeting/
LOCATION:Raising Cane’s River Center\, 275 South River Road\, Baton Rouge\, LA
END:VEVENT
BEGIN:VEVENT
DTSTART;VALUE=DATE:20190408
DTEND;VALUE=DATE:20190409
DTSTAMP:20260421T165138
CREATED:20190306T143053Z
LAST-MODIFIED:20190306T143135Z
UID:3117-1554681600-1554767999@tradecorridors.org
SUMMARY:AASHTO Special Committee on Freight Meeting
DESCRIPTION:The Special Committee on Freight shall develop policies related to legislation\, regulation\, and other policy matters related to the safe and reliable movement of goods for consideration by the Transportation Policy Forum and shall provide technical expertise and training for members and other freight-related agencies. The Special Committee will take a forward-looking view of freight issues and shall disseminate information and encourage research necessary to achieve identified policy goals. \nArnold and Mabel Beckman Conference Center\n100 Academy\nIrvine\, CA 92617
URL:https://tradecorridors.org/event/aashto-special-committee-on-freight-meeting/
LOCATION:Arnold and Mabel Beckman Conference Center\, 100 Academy\, Irvine\, CA\, 92617
END:VEVENT
BEGIN:VEVENT
DTSTART;VALUE=DATE:20190226
DTEND;VALUE=DATE:20190302
DTSTAMP:20260421T165138
CREATED:20181018T213622Z
LAST-MODIFIED:20181018T213622Z
UID:2694-1551139200-1551484799@tradecorridors.org
SUMMARY:AASHTO Washington Briefing
DESCRIPTION:The AASHTO Washington Briefing provides valuable insights and information for members to take to their respective congressional delegation as well as back home to their state officials and constituents. Meetings give important access to the people working with the Administration and Congress on issues that impact state departments of transportation. The conference serves as a unique experience that combines access with information.
URL:https://tradecorridors.org/event/aashto-washington-briefing/
LOCATION:Washington Court Hotel\, Washington\, DC\, United States
END:VEVENT
BEGIN:VEVENT
DTSTART;VALUE=DATE:20190210
DTEND;VALUE=DATE:20190214
DTSTAMP:20260421T165138
CREATED:20181012T205342Z
LAST-MODIFIED:20181012T210408Z
UID:2655-1549756800-1550102399@tradecorridors.org
SUMMARY:NARC National Conference of Regions
DESCRIPTION:NARC hosts its annual National Conference of Regions in Washington\, D.C. for Councils of Government\, Metropolitan Planning Organizations\, their leaders and board members\, professional staff and local elected officials. The conference draws a national audience consisting of elected city\, county and state officials\, diverse professionals\, academics and private sector representatives. \nThe National Conference of Regions is NARC’s forum to determine key policy issues and a legislative agenda for the year ahead\, targeting topics central to our members’ missions and their local elected officials’ focus.
URL:https://tradecorridors.org/event/narc-national-conference-of-regions/
LOCATION:Washington Court Hotel\, Washington\, DC\, United States
END:VEVENT
BEGIN:VEVENT
DTSTART;VALUE=DATE:20190113
DTEND;VALUE=DATE:20190118
DTSTAMP:20260421T165138
CREATED:20181012T204335Z
LAST-MODIFIED:20181012T210348Z
UID:2649-1547337600-1547769599@tradecorridors.org
SUMMARY:Transportation Research Board Annual Meeting
DESCRIPTION:The Transportation Research Board (TRB) 98th Annual Meeting will be held January 13–17\, 2019\, at the Walter E. Washington Convention Center\, in Washington\, D.C. The information-packed program is expected to attract more than 13\,000 transportation professionals from around the world. \nThe meeting program will cover all transportation modes\, with more than 5\,000 presentations in nearly 800 sessions and workshops\, addressing topics of interest to policy makers\, administrators\, practitioners\, researchers\, and representatives of government\, industry\, and academic institutions. A number of sessions and workshops will focus on the spotlight theme for the 2019 meeting: Transportation for a Smart\, Sustainable\, and Equitable Future.
URL:https://tradecorridors.org/event/transportation-research-board-annual-meeting/
LOCATION:Walter E. Washington Convention Center\, Washington\, DC\, United States
END:VEVENT
BEGIN:VEVENT
DTSTART;VALUE=DATE:20190106
DTEND;VALUE=DATE:20190110
DTSTAMP:20260421T165138
CREATED:20181012T204915Z
LAST-MODIFIED:20181012T205944Z
UID:2652-1546732800-1547078399@tradecorridors.org
SUMMARY:NRC Annual Conference
DESCRIPTION:Registration is now open for the 41st annual NRC Conference. The 2019 NRC Conference will be held from January 6-9\, 2019 at the J.W. Marriott Marco Island in Marco Island\, Florida. \nEach year\, the NRC hosts its conference where all stakeholders of the railroad construction and maintenance industry are encouraged to attend. The conference typically encompasses more than 1\,000 attendees\, 150 exhibitors\, and 25\,000 square-feet of meeting space with a unique program agenda lined up with chief engineers from the major freight railroads and other key speakers covering up-to-date topics of importance to the rail industry. Typical topics include: \n\nClass 1 and Regional Railroad Capital Spending Plan\nRail Projects of National Significance\nCommuter Rail and Transit Contracting\nRail Infrastructure Legislation\nRailroad Construction Safety\nHigh-Speed Rail Developments\nPositive Train Control
URL:https://tradecorridors.org/event/nrc-annual-conference/
LOCATION:J.W. Marriott Marco Island\, Marco Island\, FL\, United States
END:VEVENT
BEGIN:VEVENT
DTSTART;VALUE=DATE:20181211
DTEND;VALUE=DATE:20181212
DTSTAMP:20260421T165138
CREATED:20181001T202150Z
LAST-MODIFIED:20181012T205922Z
UID:2543-1544486400-1544572799@tradecorridors.org
SUMMARY:Florida Chamber of Commerce Transportation and Infrastructure Summit
DESCRIPTION:Join the Florida Chamber Foundation at the 2018 Transportation & Infrastructure Summit\, held at America’s First solar powered town\, Babcock Ranch. \nTopics the 2018 Transportation & Infrastructure Summit Will Cover Include: \n• Florida’s transportation opportunities\,\n• The future of Florida’s Trade & Logistics 2.0 report\,\n• Florida Chamber’s Infrastructure Coalition\,\n• Autonomous Florida\,\n• Florida’s current and future infrastructure needs\,\n• and more!
URL:https://tradecorridors.org/event/florida-chamber-of-commerce-transportation-and-infrastructure-summit/
LOCATION:Healthy Life Center at Babcock Ranch\, Babcock Ranch\, FL\, United States
END:VEVENT
BEGIN:VEVENT
DTSTART;VALUE=DATE:20181012
DTEND;VALUE=DATE:20181016
DTSTAMP:20260421T165138
CREATED:20180627T164444Z
LAST-MODIFIED:20181012T205853Z
UID:369-1539302400-1539647999@tradecorridors.org
SUMMARY:ASCE Convention
DESCRIPTION:The American Society of Civil Engineers’ (ASCE) Convention is the Society’s premiere membership event. It is the single annual opportunity where the entire Society joins together reflecting the diversity that ASCE encompasses. The Convention program is designed to have integrated\, multi-cultural\, technical\, and educational components to meet the needs of the profession. \nThe program will follow the convention topics described below. These topics are used to define a recurring convention program that draws attendees back year\, after year focusing on the important issues affecting the profession. The program will provide benefits to attendees on an educational and professional level and value to their employers by enhancing staff’s technical\, managerial and leadership skills.
URL:https://tradecorridors.org/event/asce-convention/
LOCATION:Hyatt Regency Denver at Colorado Convention Center\, Denver\, CO\, United States
END:VEVENT
BEGIN:VEVENT
DTSTART;VALUE=DATE:20181009
DTEND;VALUE=DATE:20181011
DTSTAMP:20260421T165138
CREATED:20180627T164516Z
LAST-MODIFIED:20180913T154002Z
UID:371-1539043200-1539215999@tradecorridors.org
SUMMARY:Resilience Innovations Summit and Exchange (RISE)
DESCRIPTION:Transportation leaders and professionals interested in resiliency are invited to the inaugural National  Transportation Resilience Innovations Summit and Exchange (RISE)\, which will provide a forum for sharing emerging as well as state-of-the-practice information about how transportation agencies are approaching and integrating resilience considerations in their long and short-term policies\, programs\, and resource allocation decisions. The approach to resilience has broadened well beyond climate and extreme weather impacts\, to include any human-caused or natural disaster risks of disruption to transportation infrastructure.  The full conference Program and information on registration and lodging is available at www.transportationrisesummit.com.
URL:https://tradecorridors.org/event/resilience-innovations-summit-and-exchange-rise/
LOCATION:The Sheraton Denver Downtown Hotel\, Denver\, CO\, United States
END:VEVENT
BEGIN:VEVENT
DTSTART;VALUE=DATE:20180926
DTEND;VALUE=DATE:20180929
DTSTAMP:20260421T165138
CREATED:20180627T164627Z
LAST-MODIFIED:20180913T153827Z
UID:375-1537920000-1538179199@tradecorridors.org
SUMMARY:NASCO Continental Reunion
DESCRIPTION:Undoubtedly\, it’s been a wild year for North American trade\, but come hear what we’re doing at the grassroots level to move things forward. The NASCO Continental Reunion brings together North American industry and government leaders in a unique way and features ideas and solutions regarding our continent’s borders\, trade and transportation network. The common thread at each year’s reunion is how to strengthen North American cooperation at the grassroots level. You can register here
URL:https://tradecorridors.org/event/nasco-continental-reunion/
LOCATION:Vancouver Convention Centre East\, Vancouver\, British Columbia\, Canada
END:VEVENT
BEGIN:VEVENT
DTSTART;VALUE=DATE:20180916
DTEND;VALUE=DATE:20180919
DTSTAMP:20260421T165138
CREATED:20180627T164557Z
LAST-MODIFIED:20180913T154028Z
UID:373-1537056000-1537315199@tradecorridors.org
SUMMARY:Intermodal EXPO
DESCRIPTION:EXPO will bring the industry together around the insight\, interaction and innovation that move intermodal forward. EXPO is a platform for products\, services and solutions; a classroom for new skills and know-how; and an exchange for ideas and business. Don’t miss the annual FreightCast which will provide in-depth analysis from multiple perspectives – marine\, rail\, trucking and 3PL – to help make sense of where intermodal is heading. Visit www.intermodalexpo.com
URL:https://tradecorridors.org/event/intermodal-expo/
LOCATION:Long Beach Convention Center\, Long Beach\, CA\, United States
END:VEVENT
END:VCALENDAR