BEGIN:VCALENDAR
VERSION:2.0
PRODID:-//CAGTC - ECPv6.15.20//NONSGML v1.0//EN
CALSCALE:GREGORIAN
METHOD:PUBLISH
X-WR-CALNAME:CAGTC
X-ORIGINAL-URL:https://tradecorridors.org
X-WR-CALDESC:Events for CAGTC
REFRESH-INTERVAL;VALUE=DURATION:PT1H
X-Robots-Tag:noindex
X-PUBLISHED-TTL:PT1H
BEGIN:VTIMEZONE
TZID:America/New_York
BEGIN:DAYLIGHT
TZOFFSETFROM:-0500
TZOFFSETTO:-0400
TZNAME:EDT
DTSTART:20250309T070000
END:DAYLIGHT
BEGIN:STANDARD
TZOFFSETFROM:-0400
TZOFFSETTO:-0500
TZNAME:EST
DTSTART:20251102T060000
END:STANDARD
BEGIN:DAYLIGHT
TZOFFSETFROM:-0500
TZOFFSETTO:-0400
TZNAME:EDT
DTSTART:20260308T070000
END:DAYLIGHT
BEGIN:STANDARD
TZOFFSETFROM:-0400
TZOFFSETTO:-0500
TZNAME:EST
DTSTART:20261101T060000
END:STANDARD
BEGIN:DAYLIGHT
TZOFFSETFROM:-0500
TZOFFSETTO:-0400
TZNAME:EDT
DTSTART:20270314T070000
END:DAYLIGHT
BEGIN:STANDARD
TZOFFSETFROM:-0400
TZOFFSETTO:-0500
TZNAME:EST
DTSTART:20271107T060000
END:STANDARD
END:VTIMEZONE
BEGIN:VEVENT
DTSTART;TZID=America/New_York:20260505T153000
DTEND;TZID=America/New_York:20260505T163000
DTSTAMP:20260421T113729
CREATED:20260317T164642Z
LAST-MODIFIED:20260410T223218Z
UID:9157-1777995000-1777998600@tradecorridors.org
SUMMARY:Behind Federal Grants – The Realities of Federally Funded Projects
DESCRIPTION:Presented by Jacobs\n\n\n\n\n\n\n\n\nRegister here
URL:https://tradecorridors.org/event/behind-federal-grants-the-realities-of-federal-funded-projects/
CATEGORIES:Webinars
END:VEVENT
END:VCALENDAR